BEGIN:VCALENDAR
VERSION:2.0
PRODID:-//Village of Oakdale - ECPv6.15.17.1//NONSGML v1.0//EN
CALSCALE:GREGORIAN
METHOD:PUBLISH
X-WR-CALNAME:Village of Oakdale
X-ORIGINAL-URL:https://villageofoakdalewi.gov
X-WR-CALDESC:Events for Village of Oakdale
REFRESH-INTERVAL;VALUE=DURATION:PT1H
X-Robots-Tag:noindex
X-PUBLISHED-TTL:PT1H
BEGIN:VTIMEZONE
TZID:UTC
BEGIN:STANDARD
TZOFFSETFROM:+0000
TZOFFSETTO:+0000
TZNAME:UTC
DTSTART:20240101T000000
END:STANDARD
END:VTIMEZONE
BEGIN:VEVENT
DTSTART;TZID=UTC:20260420T163000
DTEND;TZID=UTC:20260420T163000
DTSTAMP:20260421T081849
CREATED:20250717T165650Z
LAST-MODIFIED:20250717T165650Z
UID:1138-1776702600-1776702600@villageofoakdalewi.gov
SUMMARY:Village Board Meeting
DESCRIPTION:
URL:https://villageofoakdalewi.gov/event/village-board-meeting-4/2026-04-20/
CATEGORIES:Board Meeting
END:VEVENT
BEGIN:VEVENT
DTSTART;TZID=UTC:20260316T163000
DTEND;TZID=UTC:20260316T163000
DTSTAMP:20260421T081849
CREATED:20250717T165650Z
LAST-MODIFIED:20250717T165650Z
UID:1137-1773678600-1773678600@villageofoakdalewi.gov
SUMMARY:Village Board Meeting
DESCRIPTION:
URL:https://villageofoakdalewi.gov/event/village-board-meeting-4/2026-03-16/
CATEGORIES:Board Meeting
END:VEVENT
BEGIN:VEVENT
DTSTART;TZID=UTC:20260216T163000
DTEND;TZID=UTC:20260216T163000
DTSTAMP:20260421T081849
CREATED:20250717T165650Z
LAST-MODIFIED:20250717T165650Z
UID:1136-1771259400-1771259400@villageofoakdalewi.gov
SUMMARY:Village Board Meeting
DESCRIPTION:
URL:https://villageofoakdalewi.gov/event/village-board-meeting-4/2026-02-16/
CATEGORIES:Board Meeting
END:VEVENT
BEGIN:VEVENT
DTSTART;TZID=UTC:20260119T163000
DTEND;TZID=UTC:20260119T163000
DTSTAMP:20260421T081849
CREATED:20250717T165650Z
LAST-MODIFIED:20250717T165650Z
UID:1135-1768840200-1768840200@villageofoakdalewi.gov
SUMMARY:Village Board Meeting
DESCRIPTION:
URL:https://villageofoakdalewi.gov/event/village-board-meeting-4/2026-01-19/
CATEGORIES:Board Meeting
END:VEVENT
BEGIN:VEVENT
DTSTART;TZID=UTC:20251215T163000
DTEND;TZID=UTC:20251215T163000
DTSTAMP:20260421T081849
CREATED:20250717T165650Z
LAST-MODIFIED:20250717T165650Z
UID:1134-1765816200-1765816200@villageofoakdalewi.gov
SUMMARY:Village Board Meeting
DESCRIPTION:
URL:https://villageofoakdalewi.gov/event/village-board-meeting-4/2025-12-15/
CATEGORIES:Board Meeting
END:VEVENT
BEGIN:VEVENT
DTSTART;TZID=UTC:20251117T163000
DTEND;TZID=UTC:20251117T163000
DTSTAMP:20260421T081849
CREATED:20250717T165650Z
LAST-MODIFIED:20250717T165650Z
UID:1133-1763397000-1763397000@villageofoakdalewi.gov
SUMMARY:Village Board Meeting
DESCRIPTION:
URL:https://villageofoakdalewi.gov/event/village-board-meeting-4/2025-11-17/
CATEGORIES:Board Meeting
END:VEVENT
BEGIN:VEVENT
DTSTART;TZID=UTC:20251020T163000
DTEND;TZID=UTC:20251020T163000
DTSTAMP:20260421T081849
CREATED:20250717T165650Z
LAST-MODIFIED:20250717T165650Z
UID:1132-1760977800-1760977800@villageofoakdalewi.gov
SUMMARY:Village Board Meeting
DESCRIPTION:
URL:https://villageofoakdalewi.gov/event/village-board-meeting-4/2025-10-20/
CATEGORIES:Board Meeting
END:VEVENT
BEGIN:VEVENT
DTSTART;TZID=UTC:20250915T163000
DTEND;TZID=UTC:20250915T163000
DTSTAMP:20260421T081849
CREATED:20250717T165650Z
LAST-MODIFIED:20250717T165650Z
UID:1131-1757953800-1757953800@villageofoakdalewi.gov
SUMMARY:Village Board Meeting
DESCRIPTION:
URL:https://villageofoakdalewi.gov/event/village-board-meeting-4/2025-09-15/
CATEGORIES:Board Meeting
END:VEVENT
BEGIN:VEVENT
DTSTART;TZID=UTC:20250818T163000
DTEND;TZID=UTC:20250818T163000
DTSTAMP:20260421T081849
CREATED:20250717T165650Z
LAST-MODIFIED:20250717T165650Z
UID:1130-1755534600-1755534600@villageofoakdalewi.gov
SUMMARY:Village Board Meeting
DESCRIPTION:
URL:https://villageofoakdalewi.gov/event/village-board-meeting-4/2025-08-18/
CATEGORIES:Board Meeting
END:VEVENT
END:VCALENDAR