BEGIN:VCALENDAR
VERSION:2.0
PRODID:-//Village of Oakdale - ECPv6.15.17.1//NONSGML v1.0//EN
CALSCALE:GREGORIAN
METHOD:PUBLISH
X-ORIGINAL-URL:https://villageofoakdalewi.gov
X-WR-CALDESC:Events for Village of Oakdale
REFRESH-INTERVAL;VALUE=DURATION:PT1H
X-Robots-Tag:noindex
X-PUBLISHED-TTL:PT1H
BEGIN:VTIMEZONE
TZID:UTC
BEGIN:STANDARD
TZOFFSETFROM:+0000
TZOFFSETTO:+0000
TZNAME:UTC
DTSTART:20250101T000000
END:STANDARD
END:VTIMEZONE
BEGIN:VEVENT
DTSTART;VALUE=DATE:20260525
DTEND;VALUE=DATE:20260526
DTSTAMP:20260420T072611
CREATED:20250717T165437Z
LAST-MODIFIED:20250717T165437Z
UID:1118-1779667200-1779753599@villageofoakdalewi.gov
SUMMARY:Water/Sewer bill due
DESCRIPTION:Water/Sewer bill due on the 25th of each month.  Sign up today for Auto-Pay and to have your water bills emailed to you.  Contact the office at 608-372-2927 or clerk@villageofoakdalewi.gov to for more information.
URL:https://villageofoakdalewi.gov/event/water-sewer-bill-due/2026-05-25/
CATEGORIES:Miscellaneous
END:VEVENT
END:VCALENDAR