BEGIN:VCALENDAR
VERSION:2.0
PRODID:-//Village of Oakdale - ECPv6.15.17.1//NONSGML v1.0//EN
CALSCALE:GREGORIAN
METHOD:PUBLISH
X-ORIGINAL-URL:https://villageofoakdalewi.gov
X-WR-CALDESC:Events for Village of Oakdale
REFRESH-INTERVAL;VALUE=DURATION:PT1H
X-Robots-Tag:noindex
X-PUBLISHED-TTL:PT1H
BEGIN:VTIMEZONE
TZID:UTC
BEGIN:STANDARD
TZOFFSETFROM:+0000
TZOFFSETTO:+0000
TZNAME:UTC
DTSTART:20240101T000000
END:STANDARD
END:VTIMEZONE
BEGIN:VEVENT
DTSTART;VALUE=DATE:20250821
DTEND;VALUE=DATE:20250822
DTSTAMP:20260420T171730
CREATED:20250806T192507Z
LAST-MODIFIED:20250806T192507Z
UID:1162-1755734400-1755820799@villageofoakdalewi.gov
SUMMARY:Village Hall Closed
DESCRIPTION:The Village Hall will be closed today.
URL:https://villageofoakdalewi.gov/event/village-hall-closed/2025-08-21/
CATEGORIES:Miscellaneous
END:VEVENT
END:VCALENDAR