BEGIN:VCALENDAR
VERSION:2.0
PRODID:-//Village of Oakdale - ECPv6.15.17.1//NONSGML v1.0//EN
CALSCALE:GREGORIAN
METHOD:PUBLISH
X-ORIGINAL-URL:https://villageofoakdalewi.gov
X-WR-CALDESC:Events for Village of Oakdale
REFRESH-INTERVAL;VALUE=DURATION:PT1H
X-Robots-Tag:noindex
X-PUBLISHED-TTL:PT1H
BEGIN:VTIMEZONE
TZID:UTC
BEGIN:STANDARD
TZOFFSETFROM:+0000
TZOFFSETTO:+0000
TZNAME:UTC
DTSTART:20240101T000000
END:STANDARD
END:VTIMEZONE
BEGIN:VEVENT
DTSTART;VALUE=DATE:20250526
DTEND;VALUE=DATE:20250527
DTSTAMP:20260420T215415
CREATED:20250327T164209Z
LAST-MODIFIED:20250523T185615Z
UID:961-1748217600-1748303999@villageofoakdalewi.gov
SUMMARY:Memorial Day
DESCRIPTION:Village office closed in observance of Memorial Day.
URL:https://villageofoakdalewi.gov/event/memorial-day/
CATEGORIES:Miscellaneous
END:VEVENT
END:VCALENDAR