BEGIN:VCALENDAR
VERSION:2.0
PRODID:-//Village of Oakdale - ECPv6.15.17.1//NONSGML v1.0//EN
CALSCALE:GREGORIAN
METHOD:PUBLISH
X-WR-CALNAME:Village of Oakdale
X-ORIGINAL-URL:https://villageofoakdalewi.gov
X-WR-CALDESC:Events for Village of Oakdale
REFRESH-INTERVAL;VALUE=DURATION:PT1H
X-Robots-Tag:noindex
X-PUBLISHED-TTL:PT1H
BEGIN:VTIMEZONE
TZID:UTC
BEGIN:STANDARD
TZOFFSETFROM:+0000
TZOFFSETTO:+0000
TZNAME:UTC
DTSTART:20240101T000000
END:STANDARD
END:VTIMEZONE
BEGIN:VEVENT
DTSTART;TZID=UTC:20250517T080000
DTEND;TZID=UTC:20250517T130000
DTSTAMP:20260420T215046
CREATED:20250327T163723Z
LAST-MODIFIED:20250411T191049Z
UID:958-1747468800-1747486800@villageofoakdalewi.gov
SUMMARY:Village of Oakdale Spring Clean-up
DESCRIPTION:Open to all Village of Oakdale residents.
URL:https://villageofoakdalewi.gov/event/spring-clean-up/
CATEGORIES:Miscellaneous
END:VEVENT
END:VCALENDAR