BEGIN:VCALENDAR
VERSION:2.0
PRODID:-//Village of Oakdale - ECPv6.15.17.1//NONSGML v1.0//EN
CALSCALE:GREGORIAN
METHOD:PUBLISH
X-ORIGINAL-URL:https://villageofoakdalewi.gov
X-WR-CALDESC:Events for Village of Oakdale
REFRESH-INTERVAL;VALUE=DURATION:PT1H
X-Robots-Tag:noindex
X-PUBLISHED-TTL:PT1H
BEGIN:VTIMEZONE
TZID:UTC
BEGIN:STANDARD
TZOFFSETFROM:+0000
TZOFFSETTO:+0000
TZNAME:UTC
DTSTART:20240101T000000
END:STANDARD
END:VTIMEZONE
BEGIN:VEVENT
DTSTART;TZID=UTC:20250407T160000
DTEND;TZID=UTC:20250407T163000
DTSTAMP:20260420T233206
CREATED:20250327T163901Z
LAST-MODIFIED:20250327T183134Z
UID:959-1744041600-1744043400@villageofoakdalewi.gov
SUMMARY:Public Hearing
DESCRIPTION:Public Hearing for 20 year Comprehensive Plan.
URL:https://villageofoakdalewi.gov/event/public-hearing/
CATEGORIES:Miscellaneous
END:VEVENT
END:VCALENDAR